BEGIN:VCALENDAR
VERSION:2.0
PRODID:-//France Bénévolat 67 - ECPv6.15.16//NONSGML v1.0//EN
CALSCALE:GREGORIAN
METHOD:PUBLISH
X-ORIGINAL-URL:https://staging.francebenevolatbasrhin.eu
X-WR-CALDESC:Évènements pour France Bénévolat 67
REFRESH-INTERVAL;VALUE=DURATION:PT1H
X-Robots-Tag:noindex
X-PUBLISHED-TTL:PT1H
BEGIN:VTIMEZONE
TZID:Europe/Paris
BEGIN:DAYLIGHT
TZOFFSETFROM:+0100
TZOFFSETTO:+0200
TZNAME:CEST
DTSTART:20240331T010000
END:DAYLIGHT
BEGIN:STANDARD
TZOFFSETFROM:+0200
TZOFFSETTO:+0100
TZNAME:CET
DTSTART:20241027T010000
END:STANDARD
BEGIN:DAYLIGHT
TZOFFSETFROM:+0100
TZOFFSETTO:+0200
TZNAME:CEST
DTSTART:20250330T010000
END:DAYLIGHT
BEGIN:STANDARD
TZOFFSETFROM:+0200
TZOFFSETTO:+0100
TZNAME:CET
DTSTART:20251026T010000
END:STANDARD
BEGIN:DAYLIGHT
TZOFFSETFROM:+0100
TZOFFSETTO:+0200
TZNAME:CEST
DTSTART:20260329T010000
END:DAYLIGHT
BEGIN:STANDARD
TZOFFSETFROM:+0200
TZOFFSETTO:+0100
TZNAME:CET
DTSTART:20261025T010000
END:STANDARD
END:VTIMEZONE
BEGIN:VEVENT
DTSTART;VALUE=DATE:20250612
DTEND;VALUE=DATE:20250614
DTSTAMP:20260420T084929
CREATED:20250610T140752Z
LAST-MODIFIED:20250610T141349Z
UID:31874-1749686400-1749859199@staging.francebenevolatbasrhin.eu
SUMMARY:France Bénévolat Bas-Rhin est présent aux assises nationales du Bien Vieillir !
DESCRIPTION:France Bénévolat Bas-Rhin est présent le 12 et le 13 juin 2025 aux assises nationales du Bien Vieillir\nau Palais des Congrès à Strasbourg. \nVenez rencontrer l’équipe sur notre stand et découvrir nos actions de promotion du bénévolat pour\nun public sénior.\nCe sera l’occasion de faire connaissance avec de nombreux organismes présents à cette occasion. \n  \nPour plus d’informations : Assises nationales du bien vieillir – Collectivité européenne d’Alsace | CeA
URL:https://staging.francebenevolatbasrhin.eu/agenda/france-benevolat-bas-rhin-est-present-aux-assises-nationales-du-bien-vieillir/
ATTACH;FMTTYPE=image/jpeg:https://staging.francebenevolatbasrhin.eu/wp-content/uploads/2025/06/4.jpg
END:VEVENT
END:VCALENDAR