BEGIN:VCALENDAR
VERSION:2.0
PRODID:-//France Bénévolat 67 - ECPv6.15.16//NONSGML v1.0//EN
CALSCALE:GREGORIAN
METHOD:PUBLISH
X-WR-CALNAME:France Bénévolat 67
X-ORIGINAL-URL:https://staging.francebenevolatbasrhin.eu
X-WR-CALDESC:Évènements pour France Bénévolat 67
REFRESH-INTERVAL;VALUE=DURATION:PT1H
X-Robots-Tag:noindex
X-PUBLISHED-TTL:PT1H
BEGIN:VTIMEZONE
TZID:Europe/Paris
BEGIN:DAYLIGHT
TZOFFSETFROM:+0100
TZOFFSETTO:+0200
TZNAME:CEST
DTSTART:20240331T010000
END:DAYLIGHT
BEGIN:STANDARD
TZOFFSETFROM:+0200
TZOFFSETTO:+0100
TZNAME:CET
DTSTART:20241027T010000
END:STANDARD
BEGIN:DAYLIGHT
TZOFFSETFROM:+0100
TZOFFSETTO:+0200
TZNAME:CEST
DTSTART:20250330T010000
END:DAYLIGHT
BEGIN:STANDARD
TZOFFSETFROM:+0200
TZOFFSETTO:+0100
TZNAME:CET
DTSTART:20251026T010000
END:STANDARD
BEGIN:DAYLIGHT
TZOFFSETFROM:+0100
TZOFFSETTO:+0200
TZNAME:CEST
DTSTART:20260329T010000
END:DAYLIGHT
BEGIN:STANDARD
TZOFFSETFROM:+0200
TZOFFSETTO:+0100
TZNAME:CET
DTSTART:20261025T010000
END:STANDARD
END:VTIMEZONE
BEGIN:VEVENT
DTSTART;VALUE=DATE:20250915
DTEND;VALUE=DATE:20250921
DTSTAMP:20260420T054631
CREATED:20250610T143214Z
LAST-MODIFIED:20250821T085133Z
UID:31893-1757894400-1758412799@staging.francebenevolatbasrhin.eu
SUMMARY:France Bénévolat organise une semaine du bénévolat
DESCRIPTION:Semaine du 15 au 20 septembre : \nEn partenariat avec la Caisse d’Allocations Familiales du Bas-Rhin\, France Bénévolat organise une semaine du bénévolat. \nCette action dédiée au personnel de la CAF a pour objectif de faire découvrir les nombreuses missions de bénévolat possibles.\nExposition et rencontres thématiques seront accessibles au personnel de l’établissement.
URL:https://staging.francebenevolatbasrhin.eu/agenda/france-benevolat-organise-une-semaine-du-benevolat/
ATTACH;FMTTYPE=image/jpeg:https://staging.francebenevolatbasrhin.eu/wp-content/uploads/2025/08/Semaine-du-benevolat-a-la-CAF-de-Strasbourg.jpg
END:VEVENT
END:VCALENDAR