BEGIN:VCALENDAR
VERSION:2.0
PRODID:-//France Bénévolat 67 - ECPv6.15.16//NONSGML v1.0//EN
CALSCALE:GREGORIAN
METHOD:PUBLISH
X-WR-CALNAME:France Bénévolat 67
X-ORIGINAL-URL:https://staging.francebenevolatbasrhin.eu
X-WR-CALDESC:Évènements pour France Bénévolat 67
REFRESH-INTERVAL;VALUE=DURATION:PT1H
X-Robots-Tag:noindex
X-PUBLISHED-TTL:PT1H
BEGIN:VTIMEZONE
TZID:Europe/Paris
BEGIN:DAYLIGHT
TZOFFSETFROM:+0100
TZOFFSETTO:+0200
TZNAME:CEST
DTSTART:20240331T010000
END:DAYLIGHT
BEGIN:STANDARD
TZOFFSETFROM:+0200
TZOFFSETTO:+0100
TZNAME:CET
DTSTART:20241027T010000
END:STANDARD
BEGIN:DAYLIGHT
TZOFFSETFROM:+0100
TZOFFSETTO:+0200
TZNAME:CEST
DTSTART:20250330T010000
END:DAYLIGHT
BEGIN:STANDARD
TZOFFSETFROM:+0200
TZOFFSETTO:+0100
TZNAME:CET
DTSTART:20251026T010000
END:STANDARD
BEGIN:DAYLIGHT
TZOFFSETFROM:+0100
TZOFFSETTO:+0200
TZNAME:CEST
DTSTART:20260329T010000
END:DAYLIGHT
BEGIN:STANDARD
TZOFFSETFROM:+0200
TZOFFSETTO:+0100
TZNAME:CET
DTSTART:20261025T010000
END:STANDARD
END:VTIMEZONE
BEGIN:VEVENT
DTSTART;TZID=Europe/Paris:20251025T100000
DTEND;TZID=Europe/Paris:20251026T180000
DTSTAMP:20260420T044251
CREATED:20251012T102059Z
LAST-MODIFIED:20251012T103334Z
UID:32721-1761386400-1761501600@staging.francebenevolatbasrhin.eu
SUMMARY:SALON  SENIORS  ET  ALORS  !
DESCRIPTION:Cet événement\, dont c’est la 7e édition\, s’adresse aux seniors\, à leurs proches et aux aidants\, autour de thématiques clés : services à la personne\, santé\, bien-être\, loisirs\, voyages\, conseils pratiques\, innovations. \nRetrouvez l’équipe France Bénévolat Bas-Rhin sur son stand ! \nhttps://staging.francebenevolatbasrhin.eu/wp-content/uploads/2025/10/Salon-Seniors-Haguenau-2025-2.jpg
URL:https://staging.francebenevolatbasrhin.eu/agenda/salon-seniors-et-alors/
LOCATION:MAISON DES SPORTS\, Rue du Tournoi\, HAGUENAU\, 67500\, France
ATTACH;FMTTYPE=image/jpeg:https://staging.francebenevolatbasrhin.eu/wp-content/uploads/2025/10/Salon-seniors-Haguenau-2025.jpg
END:VEVENT
END:VCALENDAR