BEGIN:VCALENDAR
VERSION:2.0
PRODID:-//France Bénévolat 67 - ECPv6.15.16//NONSGML v1.0//EN
CALSCALE:GREGORIAN
METHOD:PUBLISH
X-WR-CALNAME:France Bénévolat 67
X-ORIGINAL-URL:https://staging.francebenevolatbasrhin.eu
X-WR-CALDESC:Évènements pour France Bénévolat 67
REFRESH-INTERVAL;VALUE=DURATION:PT1H
X-Robots-Tag:noindex
X-PUBLISHED-TTL:PT1H
BEGIN:VTIMEZONE
TZID:Europe/Paris
BEGIN:DAYLIGHT
TZOFFSETFROM:+0100
TZOFFSETTO:+0200
TZNAME:CEST
DTSTART:20240331T010000
END:DAYLIGHT
BEGIN:STANDARD
TZOFFSETFROM:+0200
TZOFFSETTO:+0100
TZNAME:CET
DTSTART:20241027T010000
END:STANDARD
BEGIN:DAYLIGHT
TZOFFSETFROM:+0100
TZOFFSETTO:+0200
TZNAME:CEST
DTSTART:20250330T010000
END:DAYLIGHT
BEGIN:STANDARD
TZOFFSETFROM:+0200
TZOFFSETTO:+0100
TZNAME:CET
DTSTART:20251026T010000
END:STANDARD
BEGIN:DAYLIGHT
TZOFFSETFROM:+0100
TZOFFSETTO:+0200
TZNAME:CEST
DTSTART:20260329T010000
END:DAYLIGHT
BEGIN:STANDARD
TZOFFSETFROM:+0200
TZOFFSETTO:+0100
TZNAME:CET
DTSTART:20261025T010000
END:STANDARD
END:VTIMEZONE
BEGIN:VEVENT
DTSTART;TZID=Europe/Paris:20251113T160000
DTEND;TZID=Europe/Paris:20251113T180000
DTSTAMP:20260420T033612
CREATED:20251014T125846Z
LAST-MODIFIED:20251015T114200Z
UID:32736-1763049600-1763056800@staging.francebenevolatbasrhin.eu
SUMMARY:Café Bénévole
DESCRIPTION:Bénévoles\, futurs bénévoles \, venez découvrir les multiples formes du bénévolat ! \nProfitez d’un moment convivial pour vous informer et rencontrer des associations ! \nhttps://staging.francebenevolatbasrhin.eu/wp-content/uploads/2025/10/Cafe-benevole-B.pdf
URL:https://staging.francebenevolatbasrhin.eu/agenda/cafe-benevole-4/
LOCATION:Maison des Associations à Strasbourg\, 1a place des Orphelins\, Strasbourg\, 67000\, France
ATTACH;FMTTYPE=image/jpeg:https://staging.francebenevolatbasrhin.eu/wp-content/uploads/2025/09/Banniere-benevoles-Cafe-benevole.jpg
END:VEVENT
BEGIN:VEVENT
DTSTART;TZID=Europe/Paris:20251113T180000
DTEND;TZID=Europe/Paris:20251113T200000
DTSTAMP:20260420T033612
CREATED:20251005T101253Z
LAST-MODIFIED:20251029T082307Z
UID:32711-1763056800-1763064000@staging.francebenevolatbasrhin.eu
SUMMARY:Café bénévole thématique :  BENEVOLAT ET HANDICAP
DESCRIPTION:Café bénévole ASSOCIATIONS \nLa Maison des Associations de Strasbourg et France Bénévolat Bas-Rhin organisent une table ronde  sur le thème                  BENEVOLAT ET HANDICAP : un engagement associatif pour tous ! \nInscription obligatoire : via le lien jusqu’au 12/11 : https://forms.office.com/e/nKRktfXKku \nEnvie d’élargir votre équipe de bénévoles ?Découvrez une option que vous n’aviez peut-être pas encore envisagée : accueillir des bénévoles en situation de handicap. Ensemble\, levons les appréhensions\, ça commence maintenant ! \nLa Maison des Associations de Strasbourg\, en partenariat avec la SIMOT\, APF France Handicap\, Relais Clair de Terre et France Bénévolat\, vous invite à une soirée découverte dédiée à l’échange\, à l’information et à l’inspiration collective.Cette soirée est gratuite et ouverte à toutes les associations de l’Eurométropole de Strasbourg ! \nAu programme : \n\nQuiz interactif pour déconstruire quelques idées reçues\nTémoignages concrets et inspirants\nAteliers et temps d’échange entre pairs\nDes pistes simples pour agir à votre échelle\nMoment de convivialité pour prolonger les échanges !\n\nParce qu’inclure\, c’est aussi s’enrichir\, rejoignez le mouvement !
URL:https://staging.francebenevolatbasrhin.eu/agenda/soiree-handicap-et-benevolat/
LOCATION:Maison des Associations à Strasbourg\, 1a place des Orphelins\, Strasbourg\, 67000\, France
ATTACH;FMTTYPE=image/jpeg:https://staging.francebenevolatbasrhin.eu/wp-content/uploads/2025/10/Cafe-benevole-associations.jpg
END:VEVENT
END:VCALENDAR