BEGIN:VCALENDAR
VERSION:2.0
PRODID:-//France Bénévolat 67 - ECPv6.15.16//NONSGML v1.0//EN
CALSCALE:GREGORIAN
METHOD:PUBLISH
X-WR-CALNAME:France Bénévolat 67
X-ORIGINAL-URL:https://staging.francebenevolatbasrhin.eu
X-WR-CALDESC:Évènements pour France Bénévolat 67
REFRESH-INTERVAL;VALUE=DURATION:PT1H
X-Robots-Tag:noindex
X-PUBLISHED-TTL:PT1H
BEGIN:VTIMEZONE
TZID:Europe/Paris
BEGIN:DAYLIGHT
TZOFFSETFROM:+0100
TZOFFSETTO:+0200
TZNAME:CEST
DTSTART:20240331T010000
END:DAYLIGHT
BEGIN:STANDARD
TZOFFSETFROM:+0200
TZOFFSETTO:+0100
TZNAME:CET
DTSTART:20241027T010000
END:STANDARD
BEGIN:DAYLIGHT
TZOFFSETFROM:+0100
TZOFFSETTO:+0200
TZNAME:CEST
DTSTART:20250330T010000
END:DAYLIGHT
BEGIN:STANDARD
TZOFFSETFROM:+0200
TZOFFSETTO:+0100
TZNAME:CET
DTSTART:20251026T010000
END:STANDARD
BEGIN:DAYLIGHT
TZOFFSETFROM:+0100
TZOFFSETTO:+0200
TZNAME:CEST
DTSTART:20260329T010000
END:DAYLIGHT
BEGIN:STANDARD
TZOFFSETFROM:+0200
TZOFFSETTO:+0100
TZNAME:CET
DTSTART:20261025T010000
END:STANDARD
END:VTIMEZONE
BEGIN:VEVENT
DTSTART;TZID=Europe/Paris:20251205T120000
DTEND;TZID=Europe/Paris:20251205T180000
DTSTAMP:20260420T025348
CREATED:20250810T093900Z
LAST-MODIFIED:20251203T172524Z
UID:32541-1764936000-1764957600@staging.francebenevolatbasrhin.eu
SUMMARY:Rendez-vous au Village du Partage\, place Kléber\, pour la Journée Mondiale du Bénévolat
DESCRIPTION:Venez retrouver l’équipe de France Bénévolat avec  de nombreuses associations autour de notre stand\, au pied du grand sapin pour la journée mondiale du bénévolat. \nNous invitons les bénévoles et leurs amis à nous rencontrer tout au long de la journée de 12H00 à 18H00 au Village du Partage\, avec un rendez-vous tout particulier à 13H00 pour une photo géante et symbolique pour célébrer l’engagement bénévole ! \nCette journée sera aussi un appel à l’action pour sensibiliser davantage de citoyens à l’importance du bénévolat dans nos sociétés. Des séquences de micro-trottoir en direct viendront compléter les témoignages de bénévoles diffusées durant la journée sur place et à la radio RBS. \nCette journée a été préparée conjointement avec la Maison des Associations de Strasbourg \, le collectif HUMANIS \, en liaison avec les équipes du “mannele solidaire” avec un 2ème rendez-vous  à 17h au pied du sapin pour accueillir en musique le mannele solidaire qui sera partagé en présence de Madame la Maire et de ses adjoints. \nConsulter l’article des DNA https://urls.fr/MmJJ5-
URL:https://staging.francebenevolatbasrhin.eu/agenda/rendez-vous-au-village-du-partage-place-kleber-pour-la-journee-mondiale-du-benevolat/
LOCATION:Place Kléber\, Strasbourg\, 67000\, France
ATTACH;FMTTYPE=image/jpeg:https://staging.francebenevolatbasrhin.eu/wp-content/uploads/2025/08/Banniere-Journee-mondiale-2025-jpg.jpg
END:VEVENT
END:VCALENDAR