BEGIN:VCALENDAR
VERSION:2.0
PRODID:-//France Bénévolat 67 - ECPv6.15.16//NONSGML v1.0//EN
CALSCALE:GREGORIAN
METHOD:PUBLISH
X-ORIGINAL-URL:https://staging.francebenevolatbasrhin.eu
X-WR-CALDESC:Évènements pour France Bénévolat 67
REFRESH-INTERVAL;VALUE=DURATION:PT1H
X-Robots-Tag:noindex
X-PUBLISHED-TTL:PT1H
BEGIN:VTIMEZONE
TZID:Europe/Paris
BEGIN:DAYLIGHT
TZOFFSETFROM:+0100
TZOFFSETTO:+0200
TZNAME:CEST
DTSTART:20250330T010000
END:DAYLIGHT
BEGIN:STANDARD
TZOFFSETFROM:+0200
TZOFFSETTO:+0100
TZNAME:CET
DTSTART:20251026T010000
END:STANDARD
BEGIN:DAYLIGHT
TZOFFSETFROM:+0100
TZOFFSETTO:+0200
TZNAME:CEST
DTSTART:20260329T010000
END:DAYLIGHT
BEGIN:STANDARD
TZOFFSETFROM:+0200
TZOFFSETTO:+0100
TZNAME:CET
DTSTART:20261025T010000
END:STANDARD
BEGIN:DAYLIGHT
TZOFFSETFROM:+0100
TZOFFSETTO:+0200
TZNAME:CEST
DTSTART:20270328T010000
END:DAYLIGHT
BEGIN:STANDARD
TZOFFSETFROM:+0200
TZOFFSETTO:+0100
TZNAME:CET
DTSTART:20271031T010000
END:STANDARD
END:VTIMEZONE
BEGIN:VEVENT
DTSTART;TZID=Europe/Paris:20260212T163000
DTEND;TZID=Europe/Paris:20260212T180000
DTSTAMP:20260419T235045
CREATED:20260108T085506Z
LAST-MODIFIED:20260108T085506Z
UID:32837-1770913800-1770919200@staging.francebenevolatbasrhin.eu
SUMMARY:Conseil d'Administration de France Bénévolat Bas-Rhin
DESCRIPTION:
URL:https://staging.francebenevolatbasrhin.eu/agenda/conseil-dadministration-de-france-benevolat-bas-rhin/
LOCATION:Maison des Associations à Strasbourg\, 1a place des Orphelins\, Strasbourg\, 67000\, France
ATTACH;FMTTYPE=image/jpeg:https://staging.francebenevolatbasrhin.eu/wp-content/uploads/2026/01/Conseil-dadminstration-2026.jpg
END:VEVENT
END:VCALENDAR