BEGIN:VCALENDAR
VERSION:2.0
PRODID:-//France Bénévolat 67 - ECPv6.15.16//NONSGML v1.0//EN
CALSCALE:GREGORIAN
METHOD:PUBLISH
X-ORIGINAL-URL:https://staging.francebenevolatbasrhin.eu
X-WR-CALDESC:Évènements pour France Bénévolat 67
REFRESH-INTERVAL;VALUE=DURATION:PT1H
X-Robots-Tag:noindex
X-PUBLISHED-TTL:PT1H
BEGIN:VTIMEZONE
TZID:Europe/Paris
BEGIN:DAYLIGHT
TZOFFSETFROM:+0100
TZOFFSETTO:+0200
TZNAME:CEST
DTSTART:20240331T010000
END:DAYLIGHT
BEGIN:STANDARD
TZOFFSETFROM:+0200
TZOFFSETTO:+0100
TZNAME:CET
DTSTART:20241027T010000
END:STANDARD
BEGIN:DAYLIGHT
TZOFFSETFROM:+0100
TZOFFSETTO:+0200
TZNAME:CEST
DTSTART:20250330T010000
END:DAYLIGHT
BEGIN:STANDARD
TZOFFSETFROM:+0200
TZOFFSETTO:+0100
TZNAME:CET
DTSTART:20251026T010000
END:STANDARD
BEGIN:DAYLIGHT
TZOFFSETFROM:+0100
TZOFFSETTO:+0200
TZNAME:CEST
DTSTART:20260329T010000
END:DAYLIGHT
BEGIN:STANDARD
TZOFFSETFROM:+0200
TZOFFSETTO:+0100
TZNAME:CET
DTSTART:20261025T010000
END:STANDARD
END:VTIMEZONE
BEGIN:VEVENT
DTSTART;VALUE=DATE:20250417
DTEND;VALUE=DATE:20250418
DTSTAMP:20260420T095533
CREATED:20250610T135723Z
LAST-MODIFIED:20250722T084528Z
UID:31871-1744848000-1744934399@staging.francebenevolatbasrhin.eu
SUMMARY:Dernière séance de notre module sur la gestion du bénévolat\, destiné aux associations
DESCRIPTION:Cette action organisée conjointement par la Maison des Associations de Strasbourg et France Bénévolat Bas–Rhin a rassemblé un groupe de 12 personnes soucieuses des questions de bénévolat au sein de leurs associations.\nCe module comportait trois parties : Comment ATTIRER \, ACCUEILLIR et FIDELISER les bénévoles dans une association.\nFace à l’intérêt des associations pour ces questions \, des actions de ce type seront renouvelées.
URL:https://staging.francebenevolatbasrhin.eu/agenda/derniere-seance-de-notre-module-sur-la-gestion-du-benevolat-destine-aux-associations/
ATTACH;FMTTYPE=image/png:https://staging.francebenevolatbasrhin.eu/wp-content/uploads/2025/03/Banniere-temporaire-1.png
END:VEVENT
END:VCALENDAR