BEGIN:VCALENDAR
VERSION:2.0
PRODID:-//France Bénévolat 67 - ECPv6.15.16//NONSGML v1.0//EN
CALSCALE:GREGORIAN
METHOD:PUBLISH
X-ORIGINAL-URL:https://staging.francebenevolatbasrhin.eu
X-WR-CALDESC:Évènements pour France Bénévolat 67
REFRESH-INTERVAL;VALUE=DURATION:PT1H
X-Robots-Tag:noindex
X-PUBLISHED-TTL:PT1H
BEGIN:VTIMEZONE
TZID:Europe/Paris
BEGIN:DAYLIGHT
TZOFFSETFROM:+0100
TZOFFSETTO:+0200
TZNAME:CEST
DTSTART:20240331T010000
END:DAYLIGHT
BEGIN:STANDARD
TZOFFSETFROM:+0200
TZOFFSETTO:+0100
TZNAME:CET
DTSTART:20241027T010000
END:STANDARD
BEGIN:DAYLIGHT
TZOFFSETFROM:+0100
TZOFFSETTO:+0200
TZNAME:CEST
DTSTART:20250330T010000
END:DAYLIGHT
BEGIN:STANDARD
TZOFFSETFROM:+0200
TZOFFSETTO:+0100
TZNAME:CET
DTSTART:20251026T010000
END:STANDARD
BEGIN:DAYLIGHT
TZOFFSETFROM:+0100
TZOFFSETTO:+0200
TZNAME:CEST
DTSTART:20260329T010000
END:DAYLIGHT
BEGIN:STANDARD
TZOFFSETFROM:+0200
TZOFFSETTO:+0100
TZNAME:CET
DTSTART:20261025T010000
END:STANDARD
END:VTIMEZONE
BEGIN:VEVENT
DTSTART;VALUE=DATE:20250517
DTEND;VALUE=DATE:20250519
DTSTAMP:20260420T084936
CREATED:20250610T142242Z
LAST-MODIFIED:20250611T074333Z
UID:31882-1747440000-1747612799@staging.francebenevolatbasrhin.eu
SUMMARY:Forum HUMANI-TERRE
DESCRIPTION:27 associations\, membres du collectif HUMANIS étaient rassemblées les 17 et 18 juin place Kléber à Strasbourg pour présenter et partager leurs actions de solidarité locale et internationale. \nC’est dans ce cadre que l’équipe de France Bénévolat Bas-Rhin a rencontré durant tout ce week-end de nombreux visiteurs intéressés par des actions bénévoles auprès d’associations locales pour des missions régulières ou ponctuelles. \n 
URL:https://staging.francebenevolatbasrhin.eu/agenda/forum-humani-terre/
LOCATION:Place Kléber\, Strasbourg\, 67000\, France
END:VEVENT
END:VCALENDAR